BEGIN:VCALENDAR
VERSION:2.0
PRODID:-//Zaltho Sangha - ECPv6.15.14//NONSGML v1.0//EN
CALSCALE:GREGORIAN
METHOD:PUBLISH
X-WR-CALNAME:Zaltho Sangha
X-ORIGINAL-URL:https://zaltho.de
X-WR-CALDESC:Veranstaltungen für Zaltho Sangha
REFRESH-INTERVAL;VALUE=DURATION:PT1H
X-Robots-Tag:noindex
X-PUBLISHED-TTL:PT1H
BEGIN:VTIMEZONE
TZID:Europe/Berlin
BEGIN:DAYLIGHT
TZOFFSETFROM:+0100
TZOFFSETTO:+0200
TZNAME:CEST
DTSTART:20220327T010000
END:DAYLIGHT
BEGIN:STANDARD
TZOFFSETFROM:+0200
TZOFFSETTO:+0100
TZNAME:CET
DTSTART:20221030T010000
END:STANDARD
BEGIN:DAYLIGHT
TZOFFSETFROM:+0100
TZOFFSETTO:+0200
TZNAME:CEST
DTSTART:20230326T010000
END:DAYLIGHT
BEGIN:STANDARD
TZOFFSETFROM:+0200
TZOFFSETTO:+0100
TZNAME:CET
DTSTART:20231029T010000
END:STANDARD
BEGIN:DAYLIGHT
TZOFFSETFROM:+0100
TZOFFSETTO:+0200
TZNAME:CEST
DTSTART:20240331T010000
END:DAYLIGHT
BEGIN:STANDARD
TZOFFSETFROM:+0200
TZOFFSETTO:+0100
TZNAME:CET
DTSTART:20241027T010000
END:STANDARD
END:VTIMEZONE
BEGIN:VEVENT
DTSTART;TZID=Europe/Berlin:20230517T190000
DTEND;TZID=Europe/Berlin:20230517T203000
DTSTAMP:20260422T030141
CREATED:20230427T133112Z
LAST-MODIFIED:20230513T121538Z
UID:10001007-1684350000-1684355400@zaltho.de
SUMMARY:Vortrag Claude AnShin Thomas in Chur\, Schweiz
DESCRIPTION:Claude AnShin kommt auch nach Chur\, um dort einen Vortrag zu halten. \n \n 
URL:https://zaltho.de/event/vortrag-claude-anshin-in-chur-schweiz/
LOCATION:Schuler Bücher AG\, Chur – Schweiz\, Grabenstr. 9\, Chur\, 7000\, Schweiz
CATEGORIES:Claude AnShin
ATTACH;FMTTYPE=image/png:https://zaltho.de/wp-content/uploads/2023/04/Poster-AnShin-Thomas-Chur-5-17-2023-final.png
ORGANIZER;CN="Schuler B%C3%BCcher AG - Martina Tonidandel":MAILTO:bahnhof@schulerbuecher.ch
END:VEVENT
END:VCALENDAR