BEGIN:VCALENDAR
VERSION:2.0
PRODID:-//Zaltho Sangha - ECPv6.15.14//NONSGML v1.0//EN
CALSCALE:GREGORIAN
METHOD:PUBLISH
X-WR-CALNAME:Zaltho Sangha
X-ORIGINAL-URL:https://zaltho.de
X-WR-CALDESC:Veranstaltungen für Zaltho Sangha
REFRESH-INTERVAL;VALUE=DURATION:PT1H
X-Robots-Tag:noindex
X-PUBLISHED-TTL:PT1H
BEGIN:VTIMEZONE
TZID:Europe/Berlin
BEGIN:DAYLIGHT
TZOFFSETFROM:+0100
TZOFFSETTO:+0200
TZNAME:CEST
DTSTART:20220327T010000
END:DAYLIGHT
BEGIN:STANDARD
TZOFFSETFROM:+0200
TZOFFSETTO:+0100
TZNAME:CET
DTSTART:20221030T010000
END:STANDARD
BEGIN:DAYLIGHT
TZOFFSETFROM:+0100
TZOFFSETTO:+0200
TZNAME:CEST
DTSTART:20230326T010000
END:DAYLIGHT
BEGIN:STANDARD
TZOFFSETFROM:+0200
TZOFFSETTO:+0100
TZNAME:CET
DTSTART:20231029T010000
END:STANDARD
BEGIN:DAYLIGHT
TZOFFSETFROM:+0100
TZOFFSETTO:+0200
TZNAME:CEST
DTSTART:20240331T010000
END:DAYLIGHT
BEGIN:STANDARD
TZOFFSETFROM:+0200
TZOFFSETTO:+0100
TZNAME:CET
DTSTART:20241027T010000
END:STANDARD
END:VTIMEZONE
BEGIN:VEVENT
DTSTART;TZID=Europe/Berlin:20230928T190000
DTEND;TZID=Europe/Berlin:20230928T203000
DTSTAMP:20260422T030904
CREATED:20230807T205537Z
LAST-MODIFIED:20230807T205537Z
UID:10002130-1695927600-1695933000@zaltho.de
SUMMARY:Dialogveranstaltung - Rat der Religionen
DESCRIPTION:
URL:https://zaltho.de/event/dialogveranstaltung-rat-der-religionen-2/
LOCATION:Neuapostolische Kirche Leverkusen\, Dohrgasse 16\, Leverkusen\, Nordrhein-Westfalen\, 51381\, Deutschland
CATEGORIES:Zaltho Sangha
ATTACH;FMTTYPE=image/jpeg:https://zaltho.de/wp-content/uploads/2023/08/Rat-der-Religionen-Veranstaltungen-0809-2023-scaled.jpg
ORGANIZER;CN="Zaltho Sangha e.V.%2C Leverkusen":MAILTO:info@zaltho.de
END:VEVENT
END:VCALENDAR