BEGIN:VCALENDAR
VERSION:2.0
PRODID:-//Zaltho Sangha - ECPv6.15.14//NONSGML v1.0//EN
CALSCALE:GREGORIAN
METHOD:PUBLISH
X-WR-CALNAME:Zaltho Sangha
X-ORIGINAL-URL:https://zaltho.de
X-WR-CALDESC:Veranstaltungen für Zaltho Sangha
REFRESH-INTERVAL;VALUE=DURATION:PT1H
X-Robots-Tag:noindex
X-PUBLISHED-TTL:PT1H
BEGIN:VTIMEZONE
TZID:Europe/Berlin
BEGIN:DAYLIGHT
TZOFFSETFROM:+0100
TZOFFSETTO:+0200
TZNAME:CEST
DTSTART:20220327T010000
END:DAYLIGHT
BEGIN:STANDARD
TZOFFSETFROM:+0200
TZOFFSETTO:+0100
TZNAME:CET
DTSTART:20221030T010000
END:STANDARD
BEGIN:DAYLIGHT
TZOFFSETFROM:+0100
TZOFFSETTO:+0200
TZNAME:CEST
DTSTART:20230326T010000
END:DAYLIGHT
BEGIN:STANDARD
TZOFFSETFROM:+0200
TZOFFSETTO:+0100
TZNAME:CET
DTSTART:20231029T010000
END:STANDARD
BEGIN:DAYLIGHT
TZOFFSETFROM:+0100
TZOFFSETTO:+0200
TZNAME:CEST
DTSTART:20240331T010000
END:DAYLIGHT
BEGIN:STANDARD
TZOFFSETFROM:+0200
TZOFFSETTO:+0100
TZNAME:CET
DTSTART:20241027T010000
END:STANDARD
END:VTIMEZONE
BEGIN:VEVENT
DTSTART;TZID=Europe/Berlin:20230623T180000
DTEND;TZID=Europe/Berlin:20230623T193000
DTSTAMP:20260422T053620
CREATED:20230413T083751Z
LAST-MODIFIED:20230616T190447Z
UID:10000686-1687543200-1687548600@zaltho.de
SUMMARY:Vortrag Claude AnShin Thomas in Kieselbronn\, bei Pforzheim
DESCRIPTION:
URL:https://zaltho.de/event/vortrag-claude-anshin-bei-pforzheim/
LOCATION:Ganzheitliches Gesundheits-Zentrum Kieselbronn\, Goethestr. 16\, Kieselbronn\, 75249\, Deutschland
CATEGORIES:Claude AnShin
ATTACH;FMTTYPE=image/png:https://zaltho.de/wp-content/uploads/2023/04/Vortrag-Kieselbronn-b-Pforzheim-1-1.png
ORGANIZER;CN="GGK - Christine Albl":MAILTO:ggk-info@t-online.de
END:VEVENT
END:VCALENDAR