BEGIN:VCALENDAR
VERSION:2.0
PRODID:-//Zaltho Sangha - ECPv6.15.14//NONSGML v1.0//EN
CALSCALE:GREGORIAN
METHOD:PUBLISH
X-ORIGINAL-URL:https://zaltho.de
X-WR-CALDESC:Veranstaltungen für Zaltho Sangha
REFRESH-INTERVAL;VALUE=DURATION:PT1H
X-Robots-Tag:noindex
X-PUBLISHED-TTL:PT1H
BEGIN:VTIMEZONE
TZID:Europe/Berlin
BEGIN:DAYLIGHT
TZOFFSETFROM:+0100
TZOFFSETTO:+0200
TZNAME:CEST
DTSTART:20250330T010000
END:DAYLIGHT
BEGIN:STANDARD
TZOFFSETFROM:+0200
TZOFFSETTO:+0100
TZNAME:CET
DTSTART:20251026T010000
END:STANDARD
BEGIN:DAYLIGHT
TZOFFSETFROM:+0100
TZOFFSETTO:+0200
TZNAME:CEST
DTSTART:20260329T010000
END:DAYLIGHT
BEGIN:STANDARD
TZOFFSETFROM:+0200
TZOFFSETTO:+0100
TZNAME:CET
DTSTART:20261025T010000
END:STANDARD
BEGIN:DAYLIGHT
TZOFFSETFROM:+0100
TZOFFSETTO:+0200
TZNAME:CEST
DTSTART:20270328T010000
END:DAYLIGHT
BEGIN:STANDARD
TZOFFSETFROM:+0200
TZOFFSETTO:+0100
TZNAME:CET
DTSTART:20271031T010000
END:STANDARD
END:VTIMEZONE
BEGIN:VEVENT
DTSTART;TZID=Europe/Berlin:20260307T090000
DTEND;TZID=Europe/Berlin:20260307T100000
DTSTAMP:20260421T203936
CREATED:20230303T144613Z
LAST-MODIFIED:20251204T152807Z
UID:10006092-1772874000-1772877600@zaltho.de
SUMMARY:Meditation draußen in Leverkusen
DESCRIPTION:Sitzen im Freien\, Sitzunterlage und ggf. Kissen bitte mitbringen \nUm vorherige Kontaktaufnahme bitten wir freundlichst. \nWir praktizieren gemeinsam Sitzmeditation sowie Rezitationen. \nDie Meditation wird übertragen auf YouTube und einen Teilnahme ist auch via Zoom möglich. \nZoom Link \nMeeting-ID: 854 9593 6559\nPasswort: 089989 \nHier ist der Link zu unserem Kanal: https://www.youtube.com/channel/UCcuC1fwgvMKAizsnBMaF9Gw/featured. Dort findet ihr auch Einführungsvideos\, die die verschiedenen Haltungen und den Hauptfokus der Sitzmeditation beschreiben und demonstrieren. Es gibt auch ein Video\, das die verschiedenen Körperhaltungen und den Schwerpunkt der Gehmeditation erklärt und darstellt.
URL:https://zaltho.de/event/meditation-draussen/2026-03-07/
LOCATION:Meditation draußen – Leverkusen\, Peter-Neuenheuser-Straße 7-11\, Leverkusen\, Nordrhein-Westfalen\, 51379\, Deutschland
CATEGORIES:Hybrid,Zaltho Sangha
ATTACH;FMTTYPE=image/jpeg:https://zaltho.de/wp-content/uploads/2023/03/XiIRDehbrTWyYKSuhuUxzdA_full.jpg.jpeg
GEO:51.0634773;7.0015776
X-APPLE-STRUCTURED-LOCATION;VALUE=URI;X-ADDRESS=Meditation draußen – Leverkusen Peter-Neuenheuser-Straße 7-11 Leverkusen Nordrhein-Westfalen 51379 Deutschland;X-APPLE-RADIUS=500;X-TITLE=Peter-Neuenheuser-Straße 7-11:geo:7.0015776,51.0634773
END:VEVENT
BEGIN:VEVENT
DTSTART;TZID=Europe/Berlin:20260523T100000
DTEND;TZID=Europe/Berlin:20260523T173000
DTSTAMP:20260421T203936
CREATED:20260330T164411Z
LAST-MODIFIED:20260420T082553Z
UID:10007315-1779530400-1779557400@zaltho.de
SUMMARY:11. Vesak-Fest
DESCRIPTION:Das 11. Vesak-Fest Programm:\n10:00 Uhr Begrüßung und Eröffnung durch den Oberbürgermeister Stefan Hebbel \n11:00 Uhr Einführung in die Zen-Sitz- und Gehmeditation \n12:00 Uhr Brunch / Kaffee / Kuchen / Tee / Salate \n13:30 Uhr Buddha-Waschungs-Zeremonie \n15:00 Uhr Einführung in die Sitzmeditation und Rezitation aus Mary Esther Florida (via Zoom)   \n                       in englischer Sprache \n16:00 Uhr Kurzvortrag zu DANA  \n16:30 Uhr Vortrag Claude AnShin Thomas mit deutscher Übersetzung (in Zoom) mit dem  \n                       Thema:  “Frieden ist nicht passiv: Der Mut präsent zu bleiben.” \n17:30 Uhr Abschlussworte & Dank \nVESAK ist ein Festtag\, an dem in buddhistischen Gemeinschaften weltweit die Geburt\, die Erleuchtung und der Todestag von GAUTAMA Siddhartha Shakyamuni\, dem historischen Buddha\, gefeiert werden. \nWir möchten Ihnen die Gelegenheit geben\, Meditationsformen unserer Tradition die im japanischen Zen-Buddhismus verwurzelt ist\, näher kennenzulernen und bei Kaffee\, Tee\, Kuchen und Salat mit uns gemeinsam zu feiern. \nEine Anmeldung zu einzelnen Programmpunkten ist notwendig: marion.genrai@me.com \nParken: Da die Parkmöglichkeiten in der Straße eingeschränkt sind\, bitten wir darum\, am Sportplatz Birkenberg zu parken und von dort ca. 5 Minuten zu Fuß zu gehen. Vielen Dank für das Verständnis!  \nHier findet Ihr das Programm im pdf Format
URL:https://zaltho.de/event/vesak-fest-3/
LOCATION:Zen-Zentrum Leverkusen\, Hermann-Nörrenberg-Str. 17\, Leverkusen\, Nordrhein-Westfalen\, 51379\, Deutschland
CATEGORIES:Claude AnShin,Hybrid,Online,Zaltho Sangha
ATTACH;FMTTYPE=image/png:https://zaltho.de/wp-content/uploads/2026/03/2.png
ORGANIZER;CN="Zaltho Sangha e.V.%2C Leverkusen":MAILTO:info@zaltho.de
GEO:51.0595243;6.9917815
X-APPLE-STRUCTURED-LOCATION;VALUE=URI;X-ADDRESS=Zen-Zentrum Leverkusen Hermann-Nörrenberg-Str. 17 Leverkusen Nordrhein-Westfalen 51379 Deutschland;X-APPLE-RADIUS=500;X-TITLE=Hermann-Nörrenberg-Str. 17:geo:6.9917815,51.0595243
END:VEVENT
END:VCALENDAR